BEGIN:VCALENDAR
VERSION:2.0
PRODID:-//ICEP - Islamic Center of El Paso - ECPv6.8.3//NONSGML v1.0//EN
CALSCALE:GREGORIAN
METHOD:PUBLISH
X-WR-CALNAME:ICEP - Islamic Center of El Paso
X-ORIGINAL-URL:http://icelpaso.org
X-WR-CALDESC:Events for ICEP - Islamic Center of El Paso
REFRESH-INTERVAL;VALUE=DURATION:PT1H
X-Robots-Tag:noindex
X-PUBLISHED-TTL:PT1H
BEGIN:VTIMEZONE
TZID:America/Denver
BEGIN:DAYLIGHT
TZOFFSETFROM:-0700
TZOFFSETTO:-0600
TZNAME:MDT
DTSTART:20250309T090000
END:DAYLIGHT
BEGIN:STANDARD
TZOFFSETFROM:-0600
TZOFFSETTO:-0700
TZNAME:MST
DTSTART:20251102T080000
END:STANDARD
BEGIN:DAYLIGHT
TZOFFSETFROM:-0700
TZOFFSETTO:-0600
TZNAME:MDT
DTSTART:20260308T090000
END:DAYLIGHT
BEGIN:STANDARD
TZOFFSETFROM:-0600
TZOFFSETTO:-0700
TZNAME:MST
DTSTART:20261101T080000
END:STANDARD
END:VTIMEZONE
BEGIN:VEVENT
DTSTART;TZID=America/Denver:20260418T193000
DTEND;TZID=America/Denver:20260418T210000
DTSTAMP:20260422T164302
CREATED:20260413T200429Z
LAST-MODIFIED:20260413T200700Z
UID:3763-1776540600-1776546000@icelpaso.org
SUMMARY:Aqiqah Celebration April 18th 2026
DESCRIPTION:
URL:http://icelpaso.org/event/aqiqah-celebration-april-18th-2026/
ATTACH;FMTTYPE=image/png:http://icelpaso.org/wp-content/uploads/2026/04/1000148406.png
END:VEVENT
BEGIN:VEVENT
DTSTART;TZID=America/Denver:20260322T120000
DTEND;TZID=America/Denver:20260322T160000
DTSTAMP:20260422T164302
CREATED:20260305T190516Z
LAST-MODIFIED:20260305T190636Z
UID:3746-1774180800-1774195200@icelpaso.org
SUMMARY:ICEP Family Eid Party  March 22nd 2026
DESCRIPTION:
URL:http://icelpaso.org/event/icep-family-eid-party-2026/
ATTACH;FMTTYPE=image/jpeg:http://icelpaso.org/wp-content/uploads/2026/03/ICEP-family-Eid-Party.jpg
END:VEVENT
BEGIN:VEVENT
DTSTART;TZID=America/Denver:20260313T190000
DTEND;TZID=America/Denver:20260313T213000
DTSTAMP:20260422T164302
CREATED:20260305T190044Z
LAST-MODIFIED:20260305T190832Z
UID:3741-1773428400-1773437400@icelpaso.org
SUMMARY:ICEP Annual Fundraiser March 13th 2026
DESCRIPTION:
URL:http://icelpaso.org/event/icep-annual-fundraiser-2026/
ATTACH;FMTTYPE=image/jpeg:http://icelpaso.org/wp-content/uploads/2026/03/ICEP-Annual-Fundraiser-2026.jpg
END:VEVENT
BEGIN:VEVENT
DTSTART;TZID=America/Denver:20260220T133000
DTEND;TZID=America/Denver:20260220T223000
DTSTAMP:20260422T164302
CREATED:20260219T183737Z
LAST-MODIFIED:20260219T183737Z
UID:3735-1771594200-1771626600@icelpaso.org
SUMMARY:PTA Fundraiser 2026
DESCRIPTION:
URL:http://icelpaso.org/event/pta-fundraiser-2026/
ATTACH;FMTTYPE=image/png:http://icelpaso.org/wp-content/uploads/2026/02/2026-PTA-Fundraiser-Flyer.png
END:VEVENT
BEGIN:VEVENT
DTSTART;TZID=America/Denver:20260207T150000
DTEND;TZID=America/Denver:20260207T170000
DTSTAMP:20260422T164302
CREATED:20260123T195243Z
LAST-MODIFIED:20260123T195243Z
UID:3719-1770476400-1770483600@icelpaso.org
SUMMARY:Pre-Ramadan Hijab and Abaya Swap
DESCRIPTION:
URL:http://icelpaso.org/event/pre-ramadan-hijab-and-abaya-swap/
ATTACH;FMTTYPE=image/jpeg:http://icelpaso.org/wp-content/uploads/2026/01/26d8293a-29f5-4b10-a19e-19f26d327245.jpg
END:VEVENT
BEGIN:VEVENT
DTSTART;TZID=America/Denver:20260203T193000
DTEND;TZID=America/Denver:20260203T203000
DTSTAMP:20260422T164302
CREATED:20260128T182004Z
LAST-MODIFIED:20260128T182004Z
UID:3729-1770147000-1770150600@icelpaso.org
SUMMARY:
DESCRIPTION:
URL:http://icelpaso.org/event/3729/
ATTACH;FMTTYPE=image/jpeg:http://icelpaso.org/wp-content/uploads/2026/01/6e0f5f91-8969-4142-8f8a-5c9114bda414.jpg
END:VEVENT
BEGIN:VEVENT
DTSTART;TZID=America/Denver:20260130T170000
DTEND;TZID=America/Denver:20260130T190000
DTSTAMP:20260422T164302
CREATED:20260128T181544Z
LAST-MODIFIED:20260128T181544Z
UID:3724-1769792400-1769799600@icelpaso.org
SUMMARY:PTA Family Night Celebration
DESCRIPTION:
URL:http://icelpaso.org/event/pta-family-night-celebration/
ATTACH;FMTTYPE=image/jpeg:http://icelpaso.org/wp-content/uploads/2026/01/f25520d6-bdf3-49c7-8428-02236ad67397.jpg
END:VEVENT
BEGIN:VEVENT
DTSTART;TZID=America/Denver:20251212T133000
DTEND;TZID=America/Denver:20251212T203000
DTSTAMP:20260422T164302
CREATED:20251204T174501Z
LAST-MODIFIED:20251204T174501Z
UID:3703-1765546200-1765571400@icelpaso.org
SUMMARY:Pure Hands Fundraiser and Dinner December 12th 2025
DESCRIPTION:
URL:http://icelpaso.org/event/pure-hands-fundraiser-and-dinner-december-12th-2025/
ATTACH;FMTTYPE=image/png:http://icelpaso.org/wp-content/uploads/2025/12/12-12-DFW.png
END:VEVENT
BEGIN:VEVENT
DTSTART;TZID=America/Denver:20251206T173000
DTEND;TZID=America/Denver:20251206T193000
DTSTAMP:20260422T164302
CREATED:20251203T212325Z
LAST-MODIFIED:20251203T212718Z
UID:3696-1765042200-1765049400@icelpaso.org
SUMMARY:Community Aqiqah Dinner December 6th 2025
DESCRIPTION:
URL:http://icelpaso.org/event/community-aqiqah-dinner/
ATTACH;FMTTYPE=image/png:http://icelpaso.org/wp-content/uploads/2025/12/Blue-Whimsical-Baby-Background-Poster_20251203_141222_0000.png
END:VEVENT
BEGIN:VEVENT
DTSTART;TZID=America/Denver:20251202T193000
DTEND;TZID=America/Denver:20251202T210000
DTSTAMP:20260422T164302
CREATED:20251127T201744Z
LAST-MODIFIED:20251127T201744Z
UID:3692-1764703800-1764709200@icelpaso.org
SUMMARY:Reignite Program for Young Adults
DESCRIPTION:
URL:http://icelpaso.org/event/reignite-program-for-young-adults-2/
ATTACH;FMTTYPE=image/jpeg:http://icelpaso.org/wp-content/uploads/2025/11/fc34a7ef-b5fa-45e4-92c5-6777ad1f9775.jpg
END:VEVENT
BEGIN:VEVENT
DTSTART;TZID=America/Denver:20251128T183000
DTEND;TZID=America/Denver:20251128T210000
DTSTAMP:20260422T164302
CREATED:20251127T201537Z
LAST-MODIFIED:20251127T201537Z
UID:3690-1764354600-1764363600@icelpaso.org
SUMMARY:ICEP Youth Circle
DESCRIPTION:
URL:http://icelpaso.org/event/icep-youth-circle-2/
ATTACH;FMTTYPE=image/jpeg:http://icelpaso.org/wp-content/uploads/2025/11/dee70635-c749-4ed0-abfd-e0447f07bceb.jpg
END:VEVENT
BEGIN:VEVENT
DTSTART;TZID=America/Denver:20251115T193000
DTEND;TZID=America/Denver:20251115T220000
DTSTAMP:20260422T164302
CREATED:20251105T190332Z
LAST-MODIFIED:20251107T175619Z
UID:3671-1763235000-1763244000@icelpaso.org
SUMMARY:Community Bonfire
DESCRIPTION:
URL:http://icelpaso.org/event/community-bonfire/
ATTACH;FMTTYPE=image/png:http://icelpaso.org/wp-content/uploads/2025/11/1000117041-1.png
END:VEVENT
BEGIN:VEVENT
DTSTART;TZID=America/Denver:20251114T183000
DTEND;TZID=America/Denver:20251114T220000
DTSTAMP:20260422T164302
CREATED:20251107T174935Z
LAST-MODIFIED:20251107T174935Z
UID:3678-1763145000-1763157600@icelpaso.org
SUMMARY:ICEP Youth Circle
DESCRIPTION:
URL:http://icelpaso.org/event/icep-youth-circle/
END:VEVENT
BEGIN:VEVENT
DTSTART;TZID=America/Denver:20251107T170000
DTEND;TZID=America/Denver:20251107T200000
DTSTAMP:20260422T164302
CREATED:20251105T184315Z
LAST-MODIFIED:20251105T184315Z
UID:3666-1762534800-1762545600@icelpaso.org
SUMMARY:PTA's Book Fair Family Night
DESCRIPTION:
URL:http://icelpaso.org/event/ptas-book-fair-family-night/
ATTACH;FMTTYPE=image/jpeg:http://icelpaso.org/wp-content/uploads/2025/11/6520453008653154798.jpg
END:VEVENT
BEGIN:VEVENT
DTSTART;TZID=America/Denver:20251101T080000
DTEND;TZID=America/Denver:20251101T170000
DTSTAMP:20260422T164302
CREATED:20251010T185726Z
LAST-MODIFIED:20251010T190757Z
UID:3655-1761984000-1762016400@icelpaso.org
SUMMARY:ICEP Fundraising Dinner 2025
DESCRIPTION:
URL:http://icelpaso.org/event/icep-fundraising-dinner-2025/
ATTACH;FMTTYPE=image/png:http://icelpaso.org/wp-content/uploads/2025/10/505210107036629507.png
END:VEVENT
BEGIN:VEVENT
DTSTART;TZID=America/Denver:20251011T160000
DTEND;TZID=America/Denver:20251011T200000
DTSTAMP:20260422T164302
CREATED:20250904T181153Z
LAST-MODIFIED:20250904T181153Z
UID:3620-1760198400-1760212800@icelpaso.org
SUMMARY:Community Bazaar 2025
DESCRIPTION:
URL:http://icelpaso.org/event/community-bazaar-2025/
ATTACH;FMTTYPE=image/png:http://icelpaso.org/wp-content/uploads/2025/09/Commnity-Bazaar-2025.png
END:VEVENT
BEGIN:VEVENT
DTSTART;TZID=America/Denver:20251004T163000
DTEND;TZID=America/Denver:20251004T190000
DTSTAMP:20260422T164302
CREATED:20250905T183333Z
LAST-MODIFIED:20250905T183333Z
UID:3632-1759595400-1759604400@icelpaso.org
SUMMARY:Movie Night
DESCRIPTION:
URL:http://icelpaso.org/event/movie-night/
ATTACH;FMTTYPE=image/png:http://icelpaso.org/wp-content/uploads/2025/09/Movi-Night.png
END:VEVENT
BEGIN:VEVENT
DTSTART;TZID=America/Denver:20250927T170000
DTEND;TZID=America/Denver:20250927T190000
DTSTAMP:20260422T164302
CREATED:20250905T182924Z
LAST-MODIFIED:20250905T182924Z
UID:3628-1758992400-1758999600@icelpaso.org
SUMMARY:Youth Archery
DESCRIPTION:
URL:http://icelpaso.org/event/youth-archery/
ATTACH;FMTTYPE=image/png:http://icelpaso.org/wp-content/uploads/2025/09/Youth-Archery.png
END:VEVENT
BEGIN:VEVENT
DTSTART;TZID=America/Denver:20250826T080000
DTEND;TZID=America/Denver:20250826T170000
DTSTAMP:20260422T164302
CREATED:20250826T172025Z
LAST-MODIFIED:20250826T172025Z
UID:3598-1756195200-1756227600@icelpaso.org
SUMMARY:Reignite
DESCRIPTION:
URL:http://icelpaso.org/event/reignite/
END:VEVENT
BEGIN:VEVENT
DTSTART;TZID=America/Denver:20250823T183000
DTEND;TZID=America/Denver:20250823T193000
DTSTAMP:20260422T164302
CREATED:20250821T181807Z
LAST-MODIFIED:20250821T181807Z
UID:3590-1755973800-1755977400@icelpaso.org
SUMMARY:New Beginnings
DESCRIPTION:
URL:http://icelpaso.org/event/new-beginnings/
ATTACH;FMTTYPE=image/jpeg:http://icelpaso.org/wp-content/uploads/2025/08/New-Beginnings.jpg
END:VEVENT
BEGIN:VEVENT
DTSTART;VALUE=DATE:20250809
DTEND;VALUE=DATE:20250810
DTSTAMP:20260422T164302
CREATED:20250704T165403Z
LAST-MODIFIED:20250704T165403Z
UID:3560-1754697600-1754783999@icelpaso.org
SUMMARY:Ilyas & Duck show 2025
DESCRIPTION:
URL:http://icelpaso.org/event/ilyas-duck-show-2025/
ATTACH;FMTTYPE=image/jpeg:http://icelpaso.org/wp-content/uploads/2025/07/Ilyas-Duck-show1.jpg
END:VEVENT
BEGIN:VEVENT
DTSTART;TZID=America/Denver:20250805T200000
DTEND;TZID=America/Denver:20250805T220000
DTSTAMP:20260422T164302
CREATED:20250801T190752Z
LAST-MODIFIED:20250801T190752Z
UID:3579-1754424000-1754431200@icelpaso.org
SUMMARY:Reignite program for young adults
DESCRIPTION:
URL:http://icelpaso.org/event/reignite-program-for-young-adults/
END:VEVENT
BEGIN:VEVENT
DTSTART;TZID=America/Denver:20250714T090000
DTEND;TZID=America/Denver:20250719T130000
DTSTAMP:20260422T164302
CREATED:20250523T190312Z
LAST-MODIFIED:20250523T190312Z
UID:3522-1752483600-1752930000@icelpaso.org
SUMMARY:ICEP's Kids Summer Camp 2025
DESCRIPTION:
URL:http://icelpaso.org/event/iceps-kids-summer-camp-2025/
ATTACH;FMTTYPE=image/jpeg:http://icelpaso.org/wp-content/uploads/2025/05/Summer-Camp-2025.jpg
END:VEVENT
BEGIN:VEVENT
DTSTART;TZID=America/Denver:20250614T180000
DTEND;TZID=America/Denver:20250614T210000
DTSTAMP:20260422T164302
CREATED:20250530T202613Z
LAST-MODIFIED:20250530T202613Z
UID:3543-1749924000-1749934800@icelpaso.org
SUMMARY:Eid ul Adha Activity 2025
DESCRIPTION:
URL:http://icelpaso.org/event/eid-ul-adha-activity-2025-2/
ATTACH;FMTTYPE=image/jpeg:http://icelpaso.org/wp-content/uploads/2025/05/Eid-ul-Adha-Activity-2025.jpg
END:VEVENT
BEGIN:VEVENT
DTSTART;TZID=America/Denver:20250606T070000
DTEND;TZID=America/Denver:20250606T203000
DTSTAMP:20260422T164302
CREATED:20250604T174837Z
LAST-MODIFIED:20250604T174837Z
UID:3545-1749193200-1749241800@icelpaso.org
SUMMARY:Eid al Adha 2025
DESCRIPTION:
URL:http://icelpaso.org/event/eid-al-adha-2025/
ATTACH;FMTTYPE=image/jpeg:http://icelpaso.org/wp-content/uploads/2025/06/Eid-ul-Adha-2025.jpg
END:VEVENT
BEGIN:VEVENT
DTSTART;TZID=America/Denver:20250530T080000
DTEND;TZID=America/Denver:20250530T170000
DTSTAMP:20260422T164302
CREATED:20250530T192405Z
LAST-MODIFIED:20250530T192405Z
UID:3535-1748592000-1748624400@icelpaso.org
SUMMARY:Eid ul Adha Activity 2025
DESCRIPTION:
URL:http://icelpaso.org/event/eid-ul-adha-activity-2025/
ATTACH;FMTTYPE=image/jpeg:http://icelpaso.org/wp-content/uploads/2025/05/Eid-ul-Adha-Activity-2025.jpg
END:VEVENT
BEGIN:VEVENT
DTSTART;TZID=America/Denver:20250530T080000
DTEND;TZID=America/Denver:20250530T170000
DTSTAMP:20260422T164302
CREATED:20250530T192129Z
LAST-MODIFIED:20250530T192129Z
UID:3532-1748592000-1748624400@icelpaso.org
SUMMARY:Legacy of the Companions 4
DESCRIPTION:
URL:http://icelpaso.org/event/legacy-of-the-companions-4/
END:VEVENT
BEGIN:VEVENT
DTSTART;TZID=America/Denver:20250516T210000
DTEND;TZID=America/Denver:20250516T220000
DTSTAMP:20260422T164302
CREATED:20250505T204124Z
LAST-MODIFIED:20250505T204124Z
UID:3497-1747429200-1747432800@icelpaso.org
SUMMARY:Youth/College Soccer
DESCRIPTION:
URL:http://icelpaso.org/event/youth-college-soccer/
ATTACH;FMTTYPE=image/jpeg:http://icelpaso.org/wp-content/uploads/2025/05/Youth-College-Soccer.jpg
END:VEVENT
BEGIN:VEVENT
DTSTART;TZID=America/Denver:20250425T143000
DTEND;TZID=America/Denver:20250523T153000
DTSTAMP:20260422T164302
CREATED:20250418T191321Z
LAST-MODIFIED:20250425T182709Z
UID:3446-1745591400-1748014200@icelpaso.org
SUMMARY:Beginner Qur'an Course
DESCRIPTION:
URL:http://icelpaso.org/event/3446/
ATTACH;FMTTYPE=image/png:http://icelpaso.org/wp-content/uploads/2025/04/Quran-for-Beginners.png
END:VEVENT
BEGIN:VEVENT
DTSTART;TZID=America/Denver:20250411T210000
DTEND;TZID=America/Denver:20250411T223000
DTSTAMP:20260422T164302
CREATED:20250411T205234Z
LAST-MODIFIED:20250411T205234Z
UID:3440-1744405200-1744410600@icelpaso.org
SUMMARY:Stronger than Before 2025
DESCRIPTION:
URL:http://icelpaso.org/event/stronger-than-before-2025/
ATTACH;FMTTYPE=image/jpeg:http://icelpaso.org/wp-content/uploads/2025/04/Stronger-than-Before.jpg
END:VEVENT
END:VCALENDAR