BEGIN:VCALENDAR
VERSION:2.0
PRODID:-//ICEP - Islamic Center of El Paso - ECPv6.8.3//NONSGML v1.0//EN
CALSCALE:GREGORIAN
METHOD:PUBLISH
X-WR-CALNAME:ICEP - Islamic Center of El Paso
X-ORIGINAL-URL:http://icelpaso.org
X-WR-CALDESC:Events for ICEP - Islamic Center of El Paso
REFRESH-INTERVAL;VALUE=DURATION:PT1H
X-Robots-Tag:noindex
X-PUBLISHED-TTL:PT1H
BEGIN:VTIMEZONE
TZID:America/Denver
BEGIN:DAYLIGHT
TZOFFSETFROM:-0700
TZOFFSETTO:-0600
TZNAME:MDT
DTSTART:20230312T090000
END:DAYLIGHT
BEGIN:STANDARD
TZOFFSETFROM:-0600
TZOFFSETTO:-0700
TZNAME:MST
DTSTART:20231105T080000
END:STANDARD
BEGIN:DAYLIGHT
TZOFFSETFROM:-0700
TZOFFSETTO:-0600
TZNAME:MDT
DTSTART:20240310T090000
END:DAYLIGHT
BEGIN:STANDARD
TZOFFSETFROM:-0600
TZOFFSETTO:-0700
TZNAME:MST
DTSTART:20241103T080000
END:STANDARD
BEGIN:DAYLIGHT
TZOFFSETFROM:-0700
TZOFFSETTO:-0600
TZNAME:MDT
DTSTART:20250309T090000
END:DAYLIGHT
BEGIN:STANDARD
TZOFFSETFROM:-0600
TZOFFSETTO:-0700
TZNAME:MST
DTSTART:20251102T080000
END:STANDARD
END:VTIMEZONE
BEGIN:VEVENT
DTSTART;TZID=America/Denver:20250215T060000
DTEND;TZID=America/Denver:20250215T080000
DTSTAMP:20260422T211629
CREATED:20250214T200301Z
LAST-MODIFIED:20250214T200301Z
UID:3392-1739599200-1739606400@icelpaso.org
SUMMARY:Cemetery Visit February 15th 2025
DESCRIPTION:
URL:http://icelpaso.org/event/cemetery-visit-february-15th-2025/
ATTACH;FMTTYPE=image/jpeg:http://icelpaso.org/wp-content/uploads/2025/02/Cemetery-Visit.jpeg
END:VEVENT
BEGIN:VEVENT
DTSTART;VALUE=DATE:20250208
DTEND;VALUE=DATE:20250209
DTSTAMP:20260422T211629
CREATED:20250120T202136Z
LAST-MODIFIED:20250120T202136Z
UID:3321-1738972800-1739059199@icelpaso.org
SUMMARY:Beautification day Feb 8th 2025
DESCRIPTION:
URL:http://icelpaso.org/event/beautification-day-feb-8th-2025/
ATTACH;FMTTYPE=image/jpeg:http://icelpaso.org/wp-content/uploads/2025/01/WhatsApp-Image-2025-01-12-at-11.34.54-AM.jpeg
END:VEVENT
BEGIN:VEVENT
DTSTART;TZID=America/Denver:20250202T153000
DTEND;TZID=America/Denver:20250202T173000
DTSTAMP:20260422T211629
CREATED:20250120T212802Z
LAST-MODIFIED:20250120T213521Z
UID:3327-1738510200-1738517400@icelpaso.org
SUMMARY:Revert Muslimah of El Paso Feb 2nd 2025
DESCRIPTION:
URL:http://icelpaso.org/event/revert-muslimah-of-el-paso/
END:VEVENT
BEGIN:VEVENT
DTSTART;TZID=America/Denver:20250201T200000
DTEND;TZID=America/Denver:20250201T210000
DTSTAMP:20260422T211629
CREATED:20250112T194240Z
LAST-MODIFIED:20250112T194240Z
UID:3305-1738440000-1738443600@icelpaso.org
SUMMARY:Bonfire 1st February 2025
DESCRIPTION:
URL:http://icelpaso.org/event/bonfire-1st-february-2025/
END:VEVENT
BEGIN:VEVENT
DTSTART;VALUE=DATE:20250201
DTEND;VALUE=DATE:20250202
DTSTAMP:20260422T211629
CREATED:20250120T211657Z
LAST-MODIFIED:20250120T211657Z
UID:3323-1738368000-1738454399@icelpaso.org
SUMMARY:Bonfire Night Feb. 1st 2025
DESCRIPTION:B
URL:http://icelpaso.org/event/bonfire-night-feb-1st-2025/
END:VEVENT
BEGIN:VEVENT
DTSTART;TZID=America/Denver:20250118T173000
DTEND;TZID=America/Denver:20250118T193000
DTSTAMP:20260422T211629
CREATED:20250111T183217Z
LAST-MODIFIED:20250112T183451Z
UID:3302-1737221400-1737228600@icelpaso.org
SUMMARY:Building Resilience
DESCRIPTION:Assalamu alaykum all!\nWe are back with the long-overdue mental health workshop that we will be hosting next Saturday after Maghrib. We look forward to seeing you all!
URL:http://icelpaso.org/event/building-resilience/
ATTACH;FMTTYPE=image/jpeg:http://icelpaso.org/wp-content/uploads/2025/01/WhatsApp-Image-2025-01-11-at-11.33.39-AM.jpeg
END:VEVENT
BEGIN:VEVENT
DTSTART;VALUE=DATE:20240216
DTEND;VALUE=DATE:20240217
DTSTAMP:20260422T211629
CREATED:20240207T180336Z
LAST-MODIFIED:20240207T180336Z
UID:3245-1708041600-1708127999@icelpaso.org
SUMMARY:Pure Hands: Qur’an Night
DESCRIPTION:
URL:http://icelpaso.org/event/pure-hands-quran-night/
END:VEVENT
BEGIN:VEVENT
DTSTART;VALUE=DATE:20240209
DTEND;VALUE=DATE:20240211
DTSTAMP:20260422T211629
CREATED:20240207T175913Z
LAST-MODIFIED:20240207T175913Z
UID:3238-1707436800-1707609599@icelpaso.org
SUMMARY:Visiting Imam: Mohammed Abdou
DESCRIPTION:
URL:http://icelpaso.org/event/visiting-imam-mohammed-abdou/
ATTACH;FMTTYPE=image/jpeg:http://icelpaso.org/wp-content/uploads/2024/02/ab55ffa1-c250-472c-ac7c-b1e7048d32ed.jpeg
END:VEVENT
BEGIN:VEVENT
DTSTART;TZID=America/Denver:20240127T183000
DTEND;TZID=America/Denver:20240127T203000
DTSTAMP:20260422T211629
CREATED:20231222T214116Z
LAST-MODIFIED:20231222T214541Z
UID:3234-1706380200-1706387400@icelpaso.org
SUMMARY:Paint Night for Gaza
DESCRIPTION:Paint Night for Gaza on January 27th at 6:30 P.M. $40/ child age 10 and up
URL:http://icelpaso.org/event/paint-night-for-gaza/
ATTACH;FMTTYPE=image/jpeg:http://icelpaso.org/wp-content/uploads/2023/12/image000000.jpeg
END:VEVENT
BEGIN:VEVENT
DTSTART;VALUE=DATE:20231215
DTEND;VALUE=DATE:20231216
DTSTAMP:20260422T211629
CREATED:20231023T190100Z
LAST-MODIFIED:20231023T190100Z
UID:3211-1702598400-1702684799@icelpaso.org
SUMMARY:Islamic USA Relief Outreach
DESCRIPTION:
URL:http://icelpaso.org/event/islamic-usa-relief-outreach/
END:VEVENT
BEGIN:VEVENT
DTSTART;TZID=America/Denver:20231202T143000
DTEND;TZID=America/Denver:20231202T170000
DTSTAMP:20260422T211629
CREATED:20231122T224635Z
LAST-MODIFIED:20231122T224635Z
UID:3229-1701527400-1701536400@icelpaso.org
SUMMARY:Women’s Mental Health Picnic
DESCRIPTION:
URL:http://icelpaso.org/event/womens-mental-health-picnic/
END:VEVENT
BEGIN:VEVENT
DTSTART;VALUE=DATE:20231117
DTEND;VALUE=DATE:20231118
DTSTAMP:20260422T211629
CREATED:20231019T174457Z
LAST-MODIFIED:20231019T174457Z
UID:3202-1700179200-1700265599@icelpaso.org
SUMMARY:Sheikh Yahya Jackoma visit
DESCRIPTION:
URL:http://icelpaso.org/event/sheikh-yahya-jackoma-visit/
END:VEVENT
BEGIN:VEVENT
DTSTART;TZID=America/Denver:20231116T180000
DTEND;TZID=America/Denver:20231116T180000
DTSTAMP:20260422T211629
CREATED:20231115T193007Z
LAST-MODIFIED:20231115T212527Z
UID:3222-1700157600-1700157600@icelpaso.org
SUMMARY:ICEP’s Women Lecture
DESCRIPTION:Women Lecture with Sheikh Mohammed Sharei after Maghreb @ 6 PM Thursday\, November 16th 2023
URL:http://icelpaso.org/event/iceps-women-lecture/
END:VEVENT
BEGIN:VEVENT
DTSTART;VALUE=DATE:20231104
DTEND;VALUE=DATE:20231105
DTSTAMP:20260422T211629
CREATED:20231023T185822Z
LAST-MODIFIED:20231027T175038Z
UID:3209-1699056000-1699142399@icelpaso.org
SUMMARY:Women’s Jenazah Class
DESCRIPTION:Sister Wadehah and sister Sarah will hold a Jenazah Class for women.
URL:http://icelpaso.org/event/womens-jenazah-class/
END:VEVENT
BEGIN:VEVENT
DTSTART;TZID=America/Denver:20231103T133000
DTEND;TZID=America/Denver:20231103T203000
DTSTAMP:20260422T211629
CREATED:20231023T185401Z
LAST-MODIFIED:20231023T185401Z
UID:3207-1699018200-1699043400@icelpaso.org
SUMMARY:Sheikh Yasr ICNA Fundraiser
DESCRIPTION:There will be a kutbah\, fundraiser\, and dinner.
URL:http://icelpaso.org/event/sheikh-yasr-icna-fundraiser/
END:VEVENT
BEGIN:VEVENT
DTSTART;VALUE=DATE:20231103
DTEND;VALUE=DATE:20231104
DTSTAMP:20260422T211629
CREATED:20231019T174259Z
LAST-MODIFIED:20231019T174259Z
UID:3198-1698969600-1699055999@icelpaso.org
SUMMARY:Sheikh Yasser visit
DESCRIPTION:
URL:http://icelpaso.org/event/sheikh-yasser-visit/
END:VEVENT
BEGIN:VEVENT
DTSTART;VALUE=DATE:20231013
DTEND;VALUE=DATE:20231014
DTSTAMP:20260422T211629
CREATED:20231013T175125Z
LAST-MODIFIED:20231013T175125Z
UID:3194-1697155200-1697241599@icelpaso.org
SUMMARY:Qiyam Night
DESCRIPTION:
URL:http://icelpaso.org/event/qiyam-night/
END:VEVENT
BEGIN:VEVENT
DTSTART;VALUE=DATE:20231013
DTEND;VALUE=DATE:20231014
DTSTAMP:20260422T211629
CREATED:20231009T205419Z
LAST-MODIFIED:20231009T205419Z
UID:3192-1697155200-1697241599@icelpaso.org
SUMMARY:Shed cleaning
DESCRIPTION:
URL:http://icelpaso.org/event/shed-cleaning/
END:VEVENT
BEGIN:VEVENT
DTSTART;VALUE=DATE:20231006
DTEND;VALUE=DATE:20231016
DTSTAMP:20260422T211629
CREATED:20231006T202729Z
LAST-MODIFIED:20231006T202729Z
UID:3183-1696550400-1697414399@icelpaso.org
SUMMARY:Nomination for judiciary
DESCRIPTION:Please fill up nomination form for selecting judiciary committee.
URL:http://icelpaso.org/event/nomination-for-judiciary/
END:VEVENT
BEGIN:VEVENT
DTSTART;TZID=America/Denver:20230930T190000
DTEND;TZID=America/Denver:20230930T200000
DTSTAMP:20260422T211629
CREATED:20230928T213059Z
LAST-MODIFIED:20231002T213641Z
UID:3178-1696100400-1696104000@icelpaso.org
SUMMARY:Visiting Imam
DESCRIPTION:
URL:http://icelpaso.org/event/visiting-imam2/
LOCATION:ICEP\, 143 Paragon Ln\, El Paso\, TX\, 79902\, United States
END:VEVENT
BEGIN:VEVENT
DTSTART;TZID=America/Denver:20230929T190000
DTEND;TZID=America/Denver:20230929T200000
DTSTAMP:20260422T211629
CREATED:20230928T224013Z
LAST-MODIFIED:20231001T224415Z
UID:3174-1696014000-1696017600@icelpaso.org
SUMMARY:Visiting Imam Dr. Anis Akidah
DESCRIPTION:
URL:http://icelpaso.org/event/visiting-imam-dr-anis-akidah/
END:VEVENT
BEGIN:VEVENT
DTSTART;TZID=America/Denver:20230701T080000
DTEND;TZID=America/Denver:20230701T170000
DTSTAMP:20260422T211629
CREATED:20230521T171841Z
LAST-MODIFIED:20230521T171841Z
UID:3166-1688198400-1688230800@icelpaso.org
SUMMARY:Islamic Arts and crafts 2
DESCRIPTION:Saturday 1st- Islamic Arts and crafts\nActivities- DIY make your own tasbih and paintings\nBudget- beads\, painting boards\, string (estimate=$100)\n• PH PandaHall 1440pcs Crackle Glass Beads\, 24 Color 6mm Lampwork Crystal Bead\nHandcrafted Bracelet Beads for Summer Beading Friendship Bracelet Mother Jewelry\nMaking Christmas Ornament($20.29)\n• QUEFE 2350pcs\, 64 Colors\, Pony Beads for Bracelet Making Kit\, Rainbow Craft Beads\,\nLetter Beads and Elastic Strings for Bracelet Necklace Making\, Craft Gifts Set for\nGirls($18.99)\n• Canvas Boards for Painting 40 Pack\, 8 inch x 10 inch Super Value Pack\, Artist Canvas\nPanels for Oil & Acrylic Painting($33.99)\n• ESRICH Acrylic Paint Brushes Set\,8Packs /80 Pcs\, Nylon Brush Head\, Suitable for\nAcrylic\, Oil\, Watercolor\,Rock Body Face Nail Art\,Perfect Suit of Art Painting\, Best Gift for\nKids Adult Drawing($10.99)\n• String for jewelry($10)
URL:http://icelpaso.org/event/islamic-arts-and-crafts-2/
LOCATION:ICEP\, 143 Paragon Ln\, El Paso\, TX\, 79902\, United States
END:VEVENT
BEGIN:VEVENT
DTSTART;VALUE=DATE:20230624
DTEND;VALUE=DATE:20230625
DTSTAMP:20260422T211629
CREATED:20230521T171741Z
LAST-MODIFIED:20230521T171741Z
UID:3164-1687564800-1687651199@icelpaso.org
SUMMARY:Game Night
DESCRIPTION:Saturday – 24th Game night\nActivities- Same games (estimate $50)\nBudget- snacks\n• Snacks ($50)
URL:http://icelpaso.org/event/game-night/
LOCATION:ICEP\, 143 Paragon Ln\, El Paso\, TX\, 79902\, United States
END:VEVENT
BEGIN:VEVENT
DTSTART;VALUE=DATE:20230617
DTEND;VALUE=DATE:20230618
DTSTAMP:20260422T211629
CREATED:20230521T171652Z
LAST-MODIFIED:20230521T171652Z
UID:3162-1686960000-1687046399@icelpaso.org
SUMMARY:Islamic Arts and crafts
DESCRIPTION:Saturday 17th- Islamic Arts and crafts\nActivities- building masjid structure with graham crackers\nBudget- snacks (estimate $90)\n• Graham crackers\, royal icing\, Hershey’s kisses\, wafer rolls\, ($75)\n• See screenshots
URL:http://icelpaso.org/event/islamic-arts-and-crafts/
LOCATION:ICEP\, 143 Paragon Ln\, El Paso\, TX\, 79902\, United States
END:VEVENT
BEGIN:VEVENT
DTSTART;VALUE=DATE:20230603
DTEND;VALUE=DATE:20230604
DTSTAMP:20260422T211629
CREATED:20230521T171553Z
LAST-MODIFIED:20230521T171553Z
UID:3160-1685750400-1685836799@icelpaso.org
SUMMARY:Henna Movie Night
DESCRIPTION:Saturday 3rd- henna movie night\nMovie- Bilal: A new breed of hero\nBudget-Henna\, henna stencil\, and snacks (estimate=$110)\n• Zenia 12 Pack 100% Natural Ready to Use Henna Paste Hair Color Hair Dye Cones\nReddish Brown Color ($15.99)\n• Herbever Organic Ready to Use Henna Paste Hair Color and Hair Dye Cones 12 Pieces\n($11.99)\n• Henna stencils ($25)\n• Snacks ($50)
URL:http://icelpaso.org/event/henna-movie-night/
LOCATION:ICEP\, 143 Paragon Ln\, El Paso\, TX\, 79902\, United States
END:VEVENT
BEGIN:VEVENT
DTSTART;TZID=America/Denver:20230520T170000
DTEND;TZID=America/Denver:20230520T190000
DTSTAMP:20260422T211629
CREATED:20230521T160207Z
LAST-MODIFIED:20230521T163130Z
UID:3137-1684602000-1684609200@icelpaso.org
SUMMARY:Women In Islam
DESCRIPTION:
URL:http://icelpaso.org/event/women-in-islam/
LOCATION:ICEP\, 143 Paragon Ln\, El Paso\, TX\, 79902\, United States
ATTACH;FMTTYPE=image/jpeg:http://icelpaso.org/wp-content/uploads/2023/05/womenIslam0-e1684683939350.jpeg
END:VEVENT
BEGIN:VEVENT
DTSTART;TZID=America/Denver:20230514T090000
DTEND;TZID=America/Denver:20230514T130000
DTSTAMP:20260422T211629
CREATED:20230504T164922Z
LAST-MODIFIED:20230521T165010Z
UID:3153-1684054800-1684069200@icelpaso.org
SUMMARY:Sunnah Workshop 2
DESCRIPTION:🚨This Weekend🚨 \nAssalamu Alaikum!\nICEP is thrilled to announce that Sheikh Houcine Chouat\, Dr. حسين الشواط\, a renowned scholar in Islamic studies\, will be visiting from May 3rd (today) to May 15th. During his stay\, he will deliver a range of enlightening talks and programs including interactive workshops\, Friday khutbahs\, and insightful daily talks/reminders after Fajr and Isha prayers. Don’t miss this opportunity to learn with the guidance of an esteemed scholar!\n*Please see the flyer for more details! *\n👇👇👇👇👇 \n \nThe lectures and workshops will be lead by the visiting scholar\, Shiekh Houcine Chouat. \nThere will be a lecture followed by a community dinner\, hosted by ICEP\, on Friday May 5th after Maghrib. \nThere will also be a lecture followed by a *Farewell Potluck for the Ahmad Kamel Family* on Saturday May 6th after Maghrib. \nPlease fill out this google sheet below with the dish you will be bringing for the potluck and make sure to bring one dish for the brothers and one for the sisters.\nWe hope to see you all there!\nJazakum Allahu Khairan \nThis is the link:\nhttps://docs.google.com/spreadsheets/d/11LETD_98dDdkVKuAG9v-l2lpwOtFFsmKOtpQ2_1LNdE/edit
URL:http://icelpaso.org/event/sunnah-workshop-2/
LOCATION:ICEP\, 143 Paragon Ln\, El Paso\, TX\, 79902\, United States
END:VEVENT
BEGIN:VEVENT
DTSTART;TZID=America/Denver:20230513T090000
DTEND;TZID=America/Denver:20230513T130000
DTSTAMP:20260422T211629
CREATED:20230504T164717Z
LAST-MODIFIED:20230521T164915Z
UID:3151-1683968400-1683982800@icelpaso.org
SUMMARY:Sunnah Workshop 1
DESCRIPTION:🚨This Weekend🚨 \nAssalamu Alaikum!\nICEP is thrilled to announce that Sheikh Houcine Chouat\, Dr. حسين الشواط\, a renowned scholar in Islamic studies\, will be visiting from May 3rd (today) to May 15th. During his stay\, he will deliver a range of enlightening talks and programs including interactive workshops\, Friday khutbahs\, and insightful daily talks/reminders after Fajr and Isha prayers. Don’t miss this opportunity to learn with the guidance of an esteemed scholar!\n*Please see the flyer for more details! *\n👇👇👇👇👇 \n \nThe lectures and workshops will be lead by the visiting scholar\, Shiekh Houcine Chouat. \nThere will be a lecture followed by a community dinner\, hosted by ICEP\, on Friday May 5th after Maghrib. \nThere will also be a lecture followed by a *Farewell Potluck for the Ahmad Kamel Family* on Saturday May 6th after Maghrib. \nPlease fill out this google sheet below with the dish you will be bringing for the potluck and make sure to bring one dish for the brothers and one for the sisters.\nWe hope to see you all there!\nJazakum Allahu Khairan \nThis is the link:\nhttps://docs.google.com/spreadsheets/d/11LETD_98dDdkVKuAG9v-l2lpwOtFFsmKOtpQ2_1LNdE/edit
URL:http://icelpaso.org/event/sunnah-workshop-1/
LOCATION:ICEP\, 143 Paragon Ln\, El Paso\, TX\, 79902\, United States
ATTACH;FMTTYPE=image/jpeg:http://icelpaso.org/wp-content/uploads/2023/05/1C776D0A-161B-4A1E-9781-5FC40FDAB9EC-e1683311964478.jpeg
END:VEVENT
BEGIN:VEVENT
DTSTART;TZID=America/Denver:20230512T133000
DTEND;TZID=America/Denver:20230512T140000
DTSTAMP:20260422T211629
CREATED:20230504T165721Z
LAST-MODIFIED:20230521T165827Z
UID:3157-1683898200-1683900000@icelpaso.org
SUMMARY:Friday Khutbah 2 by Dr. Houcine Chouat
DESCRIPTION:🚨This Weekend🚨 \nAssalamu Alaikum!\nICEP is thrilled to announce that Sheikh Houcine Chouat\, Dr. حسين الشواط\, a renowned scholar in Islamic studies\, will be visiting from May 3rd (today) to May 15th. During his stay\, he will deliver a range of enlightening talks and programs including interactive workshops\, Friday khutbahs\, and insightful daily talks/reminders after Fajr and Isha prayers. Don’t miss this opportunity to learn with the guidance of an esteemed scholar!\n*Please see the flyer for more details! *\n👇👇👇👇👇 \n \nThe lectures and workshops will be lead by the visiting scholar\, Shiekh Houcine Chouat. \nThere will be a lecture followed by a community dinner\, hosted by ICEP\, on Friday May 5th after Maghrib. \nThere will also be a lecture followed by a *Farewell Potluck for the Ahmad Kamel Family* on Saturday May 6th after Maghrib. \nPlease fill out this google sheet below with the dish you will be bringing for the potluck and make sure to bring one dish for the brothers and one for the sisters.\nWe hope to see you all there!\nJazakum Allahu Khairan \nThis is the link:\nhttps://docs.google.com/spreadsheets/d/11LETD_98dDdkVKuAG9v-l2lpwOtFFsmKOtpQ2_1LNdE/edit
URL:http://icelpaso.org/event/friday-khutbah-2-by-dr-houcine-chouat/
LOCATION:ICEP\, 143 Paragon Ln\, El Paso\, TX\, 79902\, United States
END:VEVENT
BEGIN:VEVENT
DTSTART;TZID=America/Denver:20230506T193000
DTEND;TZID=America/Denver:20230506T213000
DTSTAMP:20260422T211629
CREATED:20230504T164053Z
LAST-MODIFIED:20230521T164250Z
UID:3146-1683401400-1683408600@icelpaso.org
SUMMARY:Lecture & Farewell Potluck of Brother Ahmad Kamel
DESCRIPTION:🚨This Weekend🚨 \nAssalamu Alaikum!\nICEP is thrilled to announce that Sheikh Houcine Chouat\, Dr. حسين الشواط\, a renowned scholar in Islamic studies\, will be visiting from May 3rd (today) to May 15th. During his stay\, he will deliver a range of enlightening talks and programs including interactive workshops\, Friday khutbahs\, and insightful daily talks/reminders after Fajr and Isha prayers. Don’t miss this opportunity to learn with the guidance of an esteemed scholar!\n*Please see the flyer for more details! *\n👇👇👇👇👇 \n \nThe lectures and workshops will be lead by the visiting scholar\, Shiekh Houcine Chouat. \nThere will be a lecture followed by a community dinner\, hosted by ICEP\, on Friday May 5th after Maghrib. \nThere will also be a lecture followed by a *Farewell Potluck for the Ahmad Kamel Family* on Saturday May 6th after Maghrib. \nPlease fill out this google sheet below with the dish you will be bringing for the potluck and make sure to bring one dish for the brothers and one for the sisters.\nWe hope to see you all there!\nJazakum Allahu Khairan \nThis is the link:\nhttps://docs.google.com/spreadsheets/d/11LETD_98dDdkVKuAG9v-l2lpwOtFFsmKOtpQ2_1LNdE/edit
URL:http://icelpaso.org/event/lecture-farewell-potluck-of-brother-ahmad-kamel/
LOCATION:ICEP\, 143 Paragon Ln\, El Paso\, TX\, 79902\, United States
END:VEVENT
END:VCALENDAR