BEGIN:VCALENDAR
VERSION:2.0
PRODID:-//ICEP - Islamic Center of El Paso - ECPv6.8.3//NONSGML v1.0//EN
CALSCALE:GREGORIAN
METHOD:PUBLISH
X-ORIGINAL-URL:http://icelpaso.org
X-WR-CALDESC:Events for ICEP - Islamic Center of El Paso
REFRESH-INTERVAL;VALUE=DURATION:PT1H
X-Robots-Tag:noindex
X-PUBLISHED-TTL:PT1H
BEGIN:VTIMEZONE
TZID:America/Denver
BEGIN:DAYLIGHT
TZOFFSETFROM:-0700
TZOFFSETTO:-0600
TZNAME:MDT
DTSTART:20250309T090000
END:DAYLIGHT
BEGIN:STANDARD
TZOFFSETFROM:-0600
TZOFFSETTO:-0700
TZNAME:MST
DTSTART:20251102T080000
END:STANDARD
END:VTIMEZONE
BEGIN:VEVENT
DTSTART;VALUE=DATE:20250321
DTEND;VALUE=DATE:20250322
DTSTAMP:20260423T051201
CREATED:20250321T184226Z
LAST-MODIFIED:20250321T184226Z
UID:3418-1742515200-1742601599@icelpaso.org
SUMMARY:Annual Fundraising for ICEP 2025
DESCRIPTION:
URL:http://icelpaso.org/event/annual-fundraising-for-icep-2025/
ATTACH;FMTTYPE=image/png:http://icelpaso.org/wp-content/uploads/2025/03/fundraising_poster-1.png
END:VEVENT
BEGIN:VEVENT
DTSTART;TZID=America/Denver:20250329T193000
DTEND;TZID=America/Denver:20250329T220000
DTSTAMP:20260423T051201
CREATED:20250329T212631Z
LAST-MODIFIED:20250329T212801Z
UID:3432-1743276600-1743285600@icelpaso.org
SUMMARY:Henna Party March 29th 2025
DESCRIPTION:
URL:http://icelpaso.org/event/henna-party-march-29th-2025/
ATTACH;FMTTYPE=image/jpeg:http://icelpaso.org/wp-content/uploads/2025/03/IMG-20250323-WA0043.jpg
END:VEVENT
BEGIN:VEVENT
DTSTART;VALUE=DATE:20250330
DTEND;VALUE=DATE:20250331
DTSTAMP:20260423T051201
CREATED:20250329T212247Z
LAST-MODIFIED:20250329T212247Z
UID:3429-1743292800-1743379199@icelpaso.org
SUMMARY:EID MUBARAK! 2025
DESCRIPTION:
URL:http://icelpaso.org/event/eid-mubarak-2025/
ATTACH;FMTTYPE=image/jpeg:http://icelpaso.org/wp-content/uploads/2025/03/Eid-Mubarak-2025.jpg
END:VEVENT
END:VCALENDAR