BEGIN:VCALENDAR
VERSION:2.0
PRODID:-//ICEP - Islamic Center of El Paso - ECPv6.8.3//NONSGML v1.0//EN
CALSCALE:GREGORIAN
METHOD:PUBLISH
X-WR-CALNAME:ICEP - Islamic Center of El Paso
X-ORIGINAL-URL:http://icelpaso.org
X-WR-CALDESC:Events for ICEP - Islamic Center of El Paso
REFRESH-INTERVAL;VALUE=DURATION:PT1H
X-Robots-Tag:noindex
X-PUBLISHED-TTL:PT1H
BEGIN:VTIMEZONE
TZID:America/Denver
BEGIN:DAYLIGHT
TZOFFSETFROM:-0700
TZOFFSETTO:-0600
TZNAME:MDT
DTSTART:20250309T090000
END:DAYLIGHT
BEGIN:STANDARD
TZOFFSETFROM:-0600
TZOFFSETTO:-0700
TZNAME:MST
DTSTART:20251102T080000
END:STANDARD
END:VTIMEZONE
BEGIN:VEVENT
DTSTART;TZID=America/Denver:20250405T060000
DTEND;TZID=America/Denver:20250405T210000
DTSTAMP:20260423T033801
CREATED:20250328T185301Z
LAST-MODIFIED:20250328T185512Z
UID:3424-1743832800-1743886800@icelpaso.org
SUMMARY:Family Eid Party April 5th 2025
DESCRIPTION:
URL:http://icelpaso.org/event/3424/
ATTACH;FMTTYPE=image/png:http://icelpaso.org/wp-content/uploads/2025/03/Colorful-Bold-Summer-Carnival-Event-Flyer_20250323_145936_0000.png
END:VEVENT
BEGIN:VEVENT
DTSTART;TZID=America/Denver:20250411T080000
DTEND;TZID=America/Denver:20250411T170000
DTSTAMP:20260423T033801
CREATED:20250411T204753Z
LAST-MODIFIED:20250411T204835Z
UID:3438-1744358400-1744390800@icelpaso.org
SUMMARY:Friday Announcements April 11th 2025
DESCRIPTION:Friday Announcements \n                                                                                \nApril 11th 2025 \n         Assalamu Alaikum WaRahmatullahi WaBarakatuhu\,   \n  \nNEW ANNOUNCEMENTS:  \n\nSheikh’s schedule: Sheikh lectures:\n\n\nCollege Youth Lecture\, after Isha prayer at soccor field: “Stronger than Before”(see flyer)\nSaturday after Isha lecture\, “Helping the Ummah in its Delimmah”.\nResumed: Qur’an Group for Men on Saturday\, after Fajar.\nResumed: Group for Women on Sunday\, after Maghrib.\n\n\nIqamah times: \n\nFajr: 5:50 A.M. \nIsha: 9:05 P.M. \n\nThere will be free Daycare during Jummah.\nReminder: \n\n\nNo Parking in the FIRE ZONES painted Red. Overflow parking is in the dirt area.\nPlease DO NOT DROP OFF any unwanted books or clothing unless approved by the Board.\n\n\nNew Muslim Class with Yehia Ibrahim every Saturday at 6:30 P.M.\nWomen’s Class with Br. Nazmi is every Thursday @ 6:30pm\, Zoom Meeting  Mountain Time   https://us04web.zoom.us/j/77146336408?pwd=T0hjemVMOTh1ZlRTUXNTWUZLbzg4dz09\n\nMeeting ID: 771 4633 6408\nPasscode: 6ne4VQ \n\nPlease join ICEP WhatsAPP Announcement Group using this link: https://chat.whatsapp.com/EldAJBmYVeeDEepgwFpxQF\nHow to donate to The Islamic Center of El Paso:\n\nDonate Through Zelle: ICEP: CHASEBANK for Salary\, utilities and Mosque upkeep Use: icepemail1@gmail.com \nDonate Through Zelle:ICEP: BANK OFAMERICA for Construction Use: icepemail2@gmail.com\nDonate Through MOHID DONATION WALL UNIT-Swipe card and choose the account that you wish to donate in.\n\n\n\nJazakumuAllahu Khairan
URL:http://icelpaso.org/event/friday-announcements-april-11th-2025/
ATTACH;FMTTYPE=image/png:http://icelpaso.org/wp-content/uploads/2024/11/icep_jumma_mubarak-1.png
END:VEVENT
BEGIN:VEVENT
DTSTART;TZID=America/Denver:20250411T210000
DTEND;TZID=America/Denver:20250411T223000
DTSTAMP:20260423T033801
CREATED:20250411T205234Z
LAST-MODIFIED:20250411T205234Z
UID:3440-1744405200-1744410600@icelpaso.org
SUMMARY:Stronger than Before 2025
DESCRIPTION:
URL:http://icelpaso.org/event/stronger-than-before-2025/
ATTACH;FMTTYPE=image/jpeg:http://icelpaso.org/wp-content/uploads/2025/04/Stronger-than-Before.jpg
END:VEVENT
BEGIN:VEVENT
DTSTART;TZID=America/Denver:20250425T143000
DTEND;TZID=America/Denver:20250523T153000
DTSTAMP:20260423T033801
CREATED:20250418T191321Z
LAST-MODIFIED:20250425T182709Z
UID:3446-1745591400-1748014200@icelpaso.org
SUMMARY:Beginner Qur'an Course
DESCRIPTION:
URL:http://icelpaso.org/event/3446/
ATTACH;FMTTYPE=image/png:http://icelpaso.org/wp-content/uploads/2025/04/Quran-for-Beginners.png
END:VEVENT
END:VCALENDAR